BEGIN:VCALENDAR
VERSION:2.0
PRODID:-//MassHire Holyoke Career Center - ECPv6.15.17.1//NONSGML v1.0//EN
CALSCALE:GREGORIAN
METHOD:PUBLISH
X-WR-CALNAME:MassHire Holyoke Career Center
X-ORIGINAL-URL:https://masshireholyoke.org
X-WR-CALDESC:Events for MassHire Holyoke Career Center
REFRESH-INTERVAL;VALUE=DURATION:PT1H
X-Robots-Tag:noindex
X-PUBLISHED-TTL:PT1H
BEGIN:VTIMEZONE
TZID:America/New_York
BEGIN:DAYLIGHT
TZOFFSETFROM:-0500
TZOFFSETTO:-0400
TZNAME:EDT
DTSTART:20250309T070000
END:DAYLIGHT
BEGIN:STANDARD
TZOFFSETFROM:-0400
TZOFFSETTO:-0500
TZNAME:EST
DTSTART:20251102T060000
END:STANDARD
BEGIN:DAYLIGHT
TZOFFSETFROM:-0500
TZOFFSETTO:-0400
TZNAME:EDT
DTSTART:20260308T070000
END:DAYLIGHT
BEGIN:STANDARD
TZOFFSETFROM:-0400
TZOFFSETTO:-0500
TZNAME:EST
DTSTART:20261101T060000
END:STANDARD
BEGIN:DAYLIGHT
TZOFFSETFROM:-0500
TZOFFSETTO:-0400
TZNAME:EDT
DTSTART:20270314T070000
END:DAYLIGHT
BEGIN:STANDARD
TZOFFSETFROM:-0400
TZOFFSETTO:-0500
TZNAME:EST
DTSTART:20271107T060000
END:STANDARD
END:VTIMEZONE
BEGIN:VEVENT
DTSTART;TZID=America/New_York:20260305T130000
DTEND;TZID=America/New_York:20260305T150000
DTSTAMP:20260423T074737
CREATED:20260203T200114Z
LAST-MODIFIED:20260203T200114Z
UID:473815-1772715600-1772722800@masshireholyoke.org
SUMMARY:Walk-In Career Counseling
DESCRIPTION:Appointments are not needed for this “First Come First serve” counseling service.   The sessions are roughly 15 minutes and the counselor can help you with a variety of things.  The walk-in hours are as listed and you can come in anytime during this time. \n✅ Have your resume and cover letter reviewed✅ Explore career options and training opportunities✅ Prepare for interviews  ✅ Connect to local job openings\, job fairs\, and workshops✅ And More!
URL:https://masshireholyoke.org/event/walk-in-career-counseling-30/
CATEGORIES:Walk In Career Counseling
END:VEVENT
BEGIN:VEVENT
DTSTART;TZID=America/New_York:20260305T130000
DTEND;TZID=America/New_York:20260305T150000
DTSTAMP:20260423T074737
CREATED:20260203T201605Z
LAST-MODIFIED:20260203T202130Z
UID:473846-1772715600-1772722800@masshireholyoke.org
SUMMARY:Consejería de Carrera sin Cita
DESCRIPTION:No necesitas cita para este servicio de consejería “primero en llegar\, primero en ser atendido”. Las sesiones duran aproximadamente 15 minutos y el consejero puede ayudarte con muchas cosas. Los horarios para venir sin cita están indicados\, y puedes llegar en cualquier momento durante esas horas. \n✅ Revisar tu resumé (hoja de vida) y carta de presentación✅ Explorar opciones de carrera y oportunidades de entrenamiento✅ Prepararte para entrevistas✅ Conectarte con empleos disponibles\, ferias de trabajo y talleres locales✅ ¡Y mucho más!
URL:https://masshireholyoke.org/event/consejeria-de-carrera-sin-cita-17/
CATEGORIES:Servicios en Espanol
END:VEVENT
BEGIN:VEVENT
DTSTART;TZID=America/New_York:20260306T090000
DTEND;TZID=America/New_York:20260306T110000
DTSTAMP:20260423T074737
CREATED:20260203T202208Z
LAST-MODIFIED:20260203T202208Z
UID:473858-1772787600-1772794800@masshireholyoke.org
SUMMARY:Consejería de Carrera sin Cita
DESCRIPTION:No necesitas cita para este servicio de consejería “primero en llegar\, primero en ser atendido”. Las sesiones duran aproximadamente 15 minutos y el consejero puede ayudarte con muchas cosas. Los horarios para venir sin cita están indicados\, y puedes llegar en cualquier momento durante esas horas. \n✅ Revisar tu resumé (hoja de vida) y carta de presentación✅ Explorar opciones de carrera y oportunidades de entrenamiento✅ Prepararte para entrevistas✅ Conectarte con empleos disponibles\, ferias de trabajo y talleres locales✅ ¡Y mucho más!
URL:https://masshireholyoke.org/event/consejeria-de-carrera-sin-cita-22/
CATEGORIES:Servicios en Espanol
END:VEVENT
BEGIN:VEVENT
DTSTART;TZID=America/New_York:20260306T090000
DTEND;TZID=America/New_York:20260306T110000
DTSTAMP:20260423T074737
CREATED:20260203T203005Z
LAST-MODIFIED:20260203T203005Z
UID:473862-1772787600-1772794800@masshireholyoke.org
SUMMARY:Walk-In Career Counseling
DESCRIPTION:Appointments are not needed for this “First Come First serve” counseling service.   The sessions are roughly 15 minutes and the counselor can help you with a variety of things.  The walk-in hours are as listed and you can come in anytime during this time. \n✅ Have your resume and cover letter reviewed✅ Explore career options and training opportunities✅ Prepare for interviews  ✅ Connect to local job openings\, job fairs\, and workshops✅ And More!
URL:https://masshireholyoke.org/event/walk-in-career-counseling-37/
CATEGORIES:Walk In Career Counseling
END:VEVENT
BEGIN:VEVENT
DTSTART;TZID=America/New_York:20260306T100000
DTEND;TZID=America/New_York:20260306T120000
DTSTAMP:20260423T074737
CREATED:20260203T164954Z
LAST-MODIFIED:20260203T164954Z
UID:473754-1772791200-1772798400@masshireholyoke.org
SUMMARY:ONET: Your Secret Job Search Weapon Webinar
DESCRIPTION:ONET: Your Secret Job Search Weapon (Remote using Zoom): Discover the vast wealth of labor market information found on O*NET Online and explore ways to leverage this information to expand your career exploration and gain valuable insights into industry trends and job outlooks. Cure your writer’s block in preparing resumes and cover letters by accessing professional language to describe your previous work experience. Prepare for job interviews by comparing your previously held occupations to your target occupations. Don’t miss this opportunity to harness the full potential of what this secret weapon can do to ensure a successful job search process!
URL:https://masshireholyoke.org/event/onet-your-secret-job-search-weapon-webinar/
CATEGORIES:Webinar,Workshops
END:VEVENT
BEGIN:VEVENT
DTSTART;TZID=America/New_York:20260309T090000
DTEND;TZID=America/New_York:20260309T110000
DTSTAMP:20260423T074737
CREATED:20260303T164120Z
LAST-MODIFIED:20260303T164120Z
UID:474136-1773046800-1773054000@masshireholyoke.org
SUMMARY:Walk-In Career Counseling
DESCRIPTION:Appointments are not needed for this “First Come First serve” counseling service.   The sessions are roughly 15 minutes and the counselor can help you with a variety of things.  The walk-in hours are as listed and you can come in anytime during this time. \n✅ Have your resume and cover letter reviewed✅ Explore career options and training opportunities✅ Prepare for interviews  ✅ Connect to local job openings\, job fairs\, and workshops✅ And More!
URL:https://masshireholyoke.org/event/walk-in-career-counseling/
CATEGORIES:Walk In Career Counseling
END:VEVENT
BEGIN:VEVENT
DTSTART;TZID=America/New_York:20260309T100000
DTEND;TZID=America/New_York:20260309T120000
DTSTAMP:20260423T074737
CREATED:20260303T160816Z
LAST-MODIFIED:20260303T160816Z
UID:474106-1773050400-1773057600@masshireholyoke.org
SUMMARY:Virtual Career Center Seminar
DESCRIPTION:This is an Interactive Live Webinar conducted via a Zoom Meeting. To schedule you must go to www.Mass.gov/jobquest and register as a new user (or log-in if already registered) and then click on the Career Center Seminar Schedule button and select the Holyoke Career Center to choose day and time. You will receive an email at least one day prior to the CCS with instructions on how to join the Zoom meeting. If you are unable to use MassHire JobQuest\, please call 413-532-4900 to schedule
URL:https://masshireholyoke.org/event/virtual-career-center-seminar/
CATEGORIES:Career Center Seminars,Webinar
END:VEVENT
BEGIN:VEVENT
DTSTART;TZID=America/New_York:20260309T130000
DTEND;TZID=America/New_York:20260309T143000
DTSTAMP:20260423T074737
CREATED:20260227T142839Z
LAST-MODIFIED:20260227T142839Z
UID:474018-1773061200-1773066600@masshireholyoke.org
SUMMARY:Networking to Your Next Job Webinar
DESCRIPTION:Networking to Your Next Job Webinar (Remote using Zoom): Networking is an important and often unused job search tool to access the “hidden job market.” This webinar provides suggestions for creating a successful networking plan\, as well as providing a description of the “Information Interview” process.
URL:https://masshireholyoke.org/event/networking-to-your-next-job-webinar-3/
CATEGORIES:Webinar,Workshops
END:VEVENT
BEGIN:VEVENT
DTSTART;TZID=America/New_York:20260310T090000
DTEND;TZID=America/New_York:20260310T110000
DTSTAMP:20260423T074737
CREATED:20260303T175921Z
LAST-MODIFIED:20260303T175921Z
UID:474147-1773133200-1773140400@masshireholyoke.org
SUMMARY:Walk-In Career Counseling
DESCRIPTION:Appointments are not needed for this “First Come First serve” counseling service.   The sessions are roughly 15 minutes and the counselor can help you with a variety of things.  The walk-in hours are as listed and you can come in anytime during this time. \n✅ Have your resume and cover letter reviewed✅ Explore career options and training opportunities✅ Prepare for interviews  ✅ Connect to local job openings\, job fairs\, and workshops✅ And More!
URL:https://masshireholyoke.org/event/walk-in-career-counseling-5/
CATEGORIES:Walk In Career Counseling
END:VEVENT
BEGIN:VEVENT
DTSTART;TZID=America/New_York:20260310T100000
DTEND;TZID=America/New_York:20260310T113000
DTSTAMP:20260423T074737
CREATED:20260303T155254Z
LAST-MODIFIED:20260303T155254Z
UID:474085-1773136800-1773142200@masshireholyoke.org
SUMMARY:Learning Microsoft Office
DESCRIPTION:Hands-On Computer Workshops to Level Up Your Digital Skills\nBoost your computer confidence with these interactive\, in-person workshops! Learn essential digital skills for work\, school\, and everyday life. Each session includes a free 6-month Northstar Digital Literacy membership\, so you can practice and earn industry-recognized certificates. \nChoose the Workshops That Fit Your Needs – No Prerequisites!\n\n\nComputer & Internet Basics – Navigate Windows 11 Operating System\, browse safely\, complete online forms\, and troubleshoot tech issues.\n\n\nGmail & Google Docs – Set up a professional Gmail\, improve email skills\, and create polished\n\n\nMicrosoft Office Essentials – Learn and practice three of the most common workplace software programs: Microsoft Word\, Excel\, and PowerPoint\, to enhance your transferable skill set for\n\nJob Search & Digital Identity – Optimize job searches\, craft strong resumes\, and manage your online presence.\n\nGain real-world skills in a supportive\, hands-on setting. Sign up today!
URL:https://masshireholyoke.org/event/learning-microsoft-office-3/
CATEGORIES:Computer Class in Person
END:VEVENT
BEGIN:VEVENT
DTSTART;TZID=America/New_York:20260310T120000
DTEND;TZID=America/New_York:20260310T140000
DTSTAMP:20260423T074737
CREATED:20260303T154153Z
LAST-MODIFIED:20260303T154357Z
UID:474079-1773144000-1773151200@masshireholyoke.org
SUMMARY:AM Lithography Hiring Event!
DESCRIPTION:NOW HIRING! Join Us for a Hiring Event!\n\n\nLooking for your next opportunity? AM Lithography Corporation is hiring\, and you can meet their team in person!\n\n\n\n\n\nThey are recruiting for both office positions and production positions\, offering opportunities for a range of skills and experience levels.\n\n\nThis is a great chance to:\n Learn more about the company\n Explore current openings\n Connect directly with hiring representatives\n\n\n View available job openings here:\nhttps://masshireholyoke.org/…/AM-Lithographic-job…\n\n\nDon’t miss this opportunity to take the next step in your career. We look forward to seeing you there!
URL:https://masshireholyoke.org/event/474079/
CATEGORIES:Job Fairs
END:VEVENT
BEGIN:VEVENT
DTSTART;TZID=America/New_York:20260310T133000
DTEND;TZID=America/New_York:20260310T153000
DTSTAMP:20260423T074737
CREATED:20260303T155831Z
LAST-MODIFIED:20260303T155831Z
UID:474093-1773149400-1773156600@masshireholyoke.org
SUMMARY:Slay Your Resume
DESCRIPTION:Slay Your Resume (in-person): In this resume workshop you will find out what gets a resume noticed and placed at the top of the “Yes” pile. We will go over some best practices\, as well as many common Do’s and Don’ts in order to make a positive impression on employers. This workshop is good for people who need to improve their existing resume\, are in the beginning stages of creating one\, or for those who are just not quite sure why they are not getting interviews.
URL:https://masshireholyoke.org/event/slay-your-resume-7/
CATEGORIES:In Person Workshop
END:VEVENT
BEGIN:VEVENT
DTSTART;TZID=America/New_York:20260311T093000
DTEND;TZID=America/New_York:20260311T113000
DTSTAMP:20260423T074737
CREATED:20260303T161441Z
LAST-MODIFIED:20260303T161441Z
UID:474120-1773221400-1773228600@masshireholyoke.org
SUMMARY:Career Center Seminar
DESCRIPTION:This is an In Person Career Center Seminar to be held at MassHire Holyoke\, STEAM Building\, 208 Race Street\, Holyoke. To schedule you must go to www.Mass.gov/jobquest and register as a new user (or log-in if already registered) and then click on the Career Center Seminar Schedule button and select the Holyoke Career Center to choose day and time. If you are unable to use MassHire JobQuest\, please call 413-532-4900 to schedule.
URL:https://masshireholyoke.org/event/career-center-seminar-8/
CATEGORIES:Career Center Seminars
END:VEVENT
BEGIN:VEVENT
DTSTART;TZID=America/New_York:20260311T130000
DTEND;TZID=America/New_York:20260311T143000
DTSTAMP:20260423T074737
CREATED:20260302T172425Z
LAST-MODIFIED:20260302T172425Z
UID:474055-1773234000-1773239400@masshireholyoke.org
SUMMARY:Training Opportunities Webinar
DESCRIPTION:Training Grant Opportunities (Remote using Zoom): This webinar will discuss various training grant opportunities\, funding and eligibility possibilities. Training opportunities are for Western Massachusetts residents only. \n***Note: Attending this webinar is a prerequisite first step in order to pursue grant funding through the Workforce Innovation Opportunity Act (WIOA) to pay for the cost of certain training programs.
URL:https://masshireholyoke.org/event/training-opportunities-webinar-4/
CATEGORIES:Information Session
END:VEVENT
BEGIN:VEVENT
DTSTART;TZID=America/New_York:20260311T133000
DTEND;TZID=America/New_York:20260311T153000
DTSTAMP:20260423T074737
CREATED:20260303T160954Z
LAST-MODIFIED:20260303T160954Z
UID:474110-1773235800-1773243000@masshireholyoke.org
SUMMARY:Virtual Career Center Seminar
DESCRIPTION:This is an Interactive Live Webinar conducted via a Zoom Meeting. To schedule you must go to www.Mass.gov/jobquest and register as a new user (or log-in if already registered) and then click on the Career Center Seminar Schedule button and select the Holyoke Career Center to choose day and time. You will receive an email at least one day prior to the CCS with instructions on how to join the Zoom meeting. If you are unable to use MassHire JobQuest\, please call 413-532-4900 to schedule
URL:https://masshireholyoke.org/event/virtual-career-center-seminar-3/
CATEGORIES:Career Center Seminars,Webinar
END:VEVENT
BEGIN:VEVENT
DTSTART;TZID=America/New_York:20260312T100000
DTEND;TZID=America/New_York:20260312T120000
DTSTAMP:20260423T074737
CREATED:20260227T154427Z
LAST-MODIFIED:20260227T154427Z
UID:474022-1773309600-1773316800@masshireholyoke.org
SUMMARY:The Curious Candidate Webinar
DESCRIPTION:The Curious Candidate-A Career Exploration Webinar (Remote using Zoom): Are you considering a career change either to earn more money\, for greater personal fulfillment\, more flexibility or simply to try something new? It is all too easy to get “career pathway tunnel vision” and feel stuck in one particular occupation. This webinar will help participants assess their priorities\, needs and interests in choosing a new career pathway\, as well as identifying where they can apply their transferable skills and experience to new opportunities\, and how they can pursue training opportunities to fill any skills gaps. \n 
URL:https://masshireholyoke.org/event/the-curious-candidate-webinar-4/
CATEGORIES:Webinar,Workshops
END:VEVENT
BEGIN:VEVENT
DTSTART;TZID=America/New_York:20260312T103000
DTEND;TZID=America/New_York:20260312T123000
DTSTAMP:20260423T074737
CREATED:20260303T161826Z
LAST-MODIFIED:20260303T161826Z
UID:474128-1773311400-1773318600@masshireholyoke.org
SUMMARY:Orientación en Español
DESCRIPTION:Esta Orientación en Español es una session en per Orientación en Español sona en nuestra oficina en 208 la calle Race en Holyoke. Para registrarse\, por favor llame al 413-532-4900
URL:https://masshireholyoke.org/event/orientacion-en-espanol-3/
CATEGORIES:Orientación en Español
END:VEVENT
BEGIN:VEVENT
DTSTART;TZID=America/New_York:20260312T130000
DTEND;TZID=America/New_York:20260312T150000
DTSTAMP:20260423T074737
CREATED:20260303T180211Z
LAST-MODIFIED:20260303T180211Z
UID:474155-1773320400-1773327600@masshireholyoke.org
SUMMARY:Walk-In Career Counseling
DESCRIPTION:Appointments are not needed for this “First Come First serve” counseling service.   The sessions are roughly 15 minutes and the counselor can help you with a variety of things.  The walk-in hours are as listed and you can come in anytime during this time. \n✅ Have your resume and cover letter reviewed✅ Explore career options and training opportunities✅ Prepare for interviews  ✅ Connect to local job openings\, job fairs\, and workshops✅ And More!
URL:https://masshireholyoke.org/event/walk-in-career-counseling-9/
CATEGORIES:Walk In Career Counseling
END:VEVENT
BEGIN:VEVENT
DTSTART;TZID=America/New_York:20260313T100000
DTEND;TZID=America/New_York:20260313T120000
DTSTAMP:20260423T074737
CREATED:20260227T154827Z
LAST-MODIFIED:20260227T154827Z
UID:474026-1773396000-1773403200@masshireholyoke.org
SUMMARY:Job Search Tips and Tools Webinar
DESCRIPTION:Job Search Tips and Tools (Remote using Zoom): This webinar will go over the tools and strategies to ensure an efficient and successful job search. Topics include career exploration\, labor market investigation (LMI)\, where to find job openings\, how to leverage your social media accounts\, and how to develop the skills you need to land the job that is right for you. We will also discuss how MassHire Career Centers can support you along the way!
URL:https://masshireholyoke.org/event/job-search-tips-and-tools-webinar-4/
CATEGORIES:Webinar,Workshops
END:VEVENT
BEGIN:VEVENT
DTSTART;TZID=America/New_York:20260316T090000
DTEND;TZID=America/New_York:20260316T110000
DTSTAMP:20260423T074737
CREATED:20260303T164233Z
LAST-MODIFIED:20260303T164233Z
UID:474138-1773651600-1773658800@masshireholyoke.org
SUMMARY:Walk-In Career Counselin
DESCRIPTION:Appointments are not needed for this “First Come First serve” counseling service.   The sessions are roughly 15 minutes and the counselor can help you with a variety of things.  The walk-in hours are as listed and you can come in anytime during this time. \n✅ Have your resume and cover letter reviewed✅ Explore career options and training opportunities✅ Prepare for interviews  ✅ Connect to local job openings\, job fairs\, and workshops✅ And More!
URL:https://masshireholyoke.org/event/walk-in-career-counselin/
CATEGORIES:Walk In Career Counseling
END:VEVENT
BEGIN:VEVENT
DTSTART;TZID=America/New_York:20260316T090000
DTEND;TZID=America/New_York:20260316T110000
DTSTAMP:20260423T074737
CREATED:20260303T164316Z
LAST-MODIFIED:20260303T164316Z
UID:474140-1773651600-1773658800@masshireholyoke.org
SUMMARY:Walk-In Career Counseling
DESCRIPTION:Appointments are not needed for this “First Come First serve” counseling service.   The sessions are roughly 15 minutes and the counselor can help you with a variety of things.  The walk-in hours are as listed and you can come in anytime during this time. \n✅ Have your resume and cover letter reviewed✅ Explore career options and training opportunities✅ Prepare for interviews  ✅ Connect to local job openings\, job fairs\, and workshops✅ And More!
URL:https://masshireholyoke.org/event/walk-in-career-counseling-2/
END:VEVENT
BEGIN:VEVENT
DTSTART;TZID=America/New_York:20260316T100000
DTEND;TZID=America/New_York:20260316T120000
DTSTAMP:20260423T074737
CREATED:20260303T160854Z
LAST-MODIFIED:20260303T160854Z
UID:474108-1773655200-1773662400@masshireholyoke.org
SUMMARY:Virtual Career Center Seminar
DESCRIPTION:This is an Interactive Live Webinar conducted via a Zoom Meeting. To schedule you must go to www.Mass.gov/jobquest and register as a new user (or log-in if already registered) and then click on the Career Center Seminar Schedule button and select the Holyoke Career Center to choose day and time. You will receive an email at least one day prior to the CCS with instructions on how to join the Zoom meeting. If you are unable to use MassHire JobQuest\, please call 413-532-4900 to schedule
URL:https://masshireholyoke.org/event/virtual-career-center-seminar-2/
CATEGORIES:Career Center Seminars,Webinar
END:VEVENT
BEGIN:VEVENT
DTSTART;TZID=America/New_York:20260316T100000
DTEND;TZID=America/New_York:20260316T120000
DTSTAMP:20260423T074737
CREATED:20260303T161043Z
LAST-MODIFIED:20260303T161043Z
UID:474112-1773655200-1773662400@masshireholyoke.org
SUMMARY:Virtual Career Center Seminar
DESCRIPTION:This is an Interactive Live Webinar conducted via a Zoom Meeting. To schedule you must go to www.Mass.gov/jobquest and register as a new user (or log-in if already registered) and then click on the Career Center Seminar Schedule button and select the Holyoke Career Center to choose day and time. You will receive an email at least one day prior to the CCS with instructions on how to join the Zoom meeting. If you are unable to use MassHire JobQuest\, please call 413-532-4900 to schedule.
URL:https://masshireholyoke.org/event/virtual-career-center-seminar-10/
CATEGORIES:Career Center Seminars,Webinar
END:VEVENT
BEGIN:VEVENT
DTSTART;TZID=America/New_York:20260316T130000
DTEND;TZID=America/New_York:20260316T150000
DTSTAMP:20260423T074737
CREATED:20260227T155122Z
LAST-MODIFIED:20260227T155122Z
UID:474030-1773666000-1773673200@masshireholyoke.org
SUMMARY:Interviewing Skills Webinar
DESCRIPTION:Interviewing Skills (Remote using Zoom): During this interactive webinar you will know the steps to prepare for a successful virtual or in-person interview\, draft a Personal Commercial\, and practice questions and answers to enable you to relate your skills and accomplishments in ways to show how you can help the employer. The concept of “Information Interviews” and salary negotiations will also be discussed.
URL:https://masshireholyoke.org/event/interviewing-skills-webinar-2/
CATEGORIES:Webinar,Workshops
END:VEVENT
BEGIN:VEVENT
DTSTART;TZID=America/New_York:20260317T090000
DTEND;TZID=America/New_York:20260317T110000
DTSTAMP:20260423T074737
CREATED:20260303T180005Z
LAST-MODIFIED:20260303T180005Z
UID:474149-1773738000-1773745200@masshireholyoke.org
SUMMARY:Walk-In Career Counseling
DESCRIPTION:Appointments are not needed for this “First Come First serve” counseling service.   The sessions are roughly 15 minutes and the counselor can help you with a variety of things.  The walk-in hours are as listed and you can come in anytime during this time. \n✅ Have your resume and cover letter reviewed✅ Explore career options and training opportunities✅ Prepare for interviews  ✅ Connect to local job openings\, job fairs\, and workshops✅ And More!
URL:https://masshireholyoke.org/event/walk-in-career-counseling-6/
CATEGORIES:Walk In Career Counseling
END:VEVENT
BEGIN:VEVENT
DTSTART;TZID=America/New_York:20260317T100000
DTEND;TZID=America/New_York:20260317T113000
DTSTAMP:20260423T074737
CREATED:20260303T155358Z
LAST-MODIFIED:20260303T155358Z
UID:474087-1773741600-1773747000@masshireholyoke.org
SUMMARY:Job Search Strategy and Your Digital Identity
DESCRIPTION:Hands-On Computer Workshops to Level Up Your Digital Skills\nBoost your computer confidence with these interactive\, in-person workshops! Learn essential digital skills for work\, school\, and everyday life. Each session includes a free 6-month Northstar Digital Literacy membership\, so you can practice and earn industry-recognized certificates. \nChoose the Workshops That Fit Your Needs – No Prerequisites!\n\n\nComputer & Internet Basics – Navigate Windows 11 Operating System\, browse safely\, complete online forms\, and troubleshoot tech issues.\n\n\nGmail & Google Docs – Set up a professional Gmail\, improve email skills\, and create polished\n\n\nMicrosoft Office Essentials – Learn and practice three of the most common workplace software programs: Microsoft Word\, Excel\, and PowerPoint\, to enhance your transferable skill set for\n\nJob Search & Digital Identity – Optimize job searches\, craft strong resumes\, and manage your online presence.\n\nGain real-world skills in a supportive\, hands-on setting. Sign up today!
URL:https://masshireholyoke.org/event/job-search-strategy-and-your-digital-identity/
CATEGORIES:Computer Class in Person
END:VEVENT
BEGIN:VEVENT
DTSTART;TZID=America/New_York:20260317T133000
DTEND;TZID=America/New_York:20260317T150000
DTSTAMP:20260423T074737
CREATED:20260309T173724Z
LAST-MODIFIED:20260309T174154Z
UID:474176-1773754200-1773759600@masshireholyoke.org
SUMMARY:Mass PCA Directory
DESCRIPTION:Learn how to access The Mass PCA Directory and Connect to Your Next Job!
URL:https://masshireholyoke.org/event/mass-pca-directory-5/
CATEGORIES:Information Session
END:VEVENT
BEGIN:VEVENT
DTSTART;TZID=America/New_York:20260317T133000
DTEND;TZID=America/New_York:20260317T150000
DTSTAMP:20260423T074737
CREATED:20260312T144136Z
LAST-MODIFIED:20260312T144136Z
UID:474207-1773754200-1773759600@masshireholyoke.org
SUMMARY:PCA Recruitment
DESCRIPTION:
URL:https://masshireholyoke.org/event/pca-recruitment/
CATEGORIES:Upcoming Events
END:VEVENT
BEGIN:VEVENT
DTSTART;TZID=America/New_York:20260318T100000
DTEND;TZID=America/New_York:20260318T113000
DTSTAMP:20260423T074737
CREATED:20260303T160617Z
LAST-MODIFIED:20260303T160617Z
UID:474102-1773828000-1773833400@masshireholyoke.org
SUMMARY:Training Opportunities
DESCRIPTION:Training Opportunities: This information session will discuss various training grant opportunities\, funding and eligibility possibilities. Training opportunities are for Western Massachusetts residents only. \n***Note: Attending this webinar is a prerequisite first step in order to pursue grant funding through the Workforce Innovation Opportunity Act (WIOA) to pay for the cost of certain training programs. \nTo register:  Please call our main number at 413-532-4900
URL:https://masshireholyoke.org/event/training-opportunities-2/
CATEGORIES:Information Session
END:VEVENT
BEGIN:VEVENT
DTSTART;TZID=America/New_York:20260318T130000
DTEND;TZID=America/New_York:20260318T150000
DTSTAMP:20260423T074737
CREATED:20260303T161529Z
LAST-MODIFIED:20260303T161529Z
UID:474122-1773838800-1773846000@masshireholyoke.org
SUMMARY:Career Center Seminar
DESCRIPTION:This is an In Person Career Center Seminar to be held at MassHire Holyoke\, STEAM Building\, 208 Race Street\, Holyoke. To schedule you must go to www.Mass.gov/jobquest and register as a new user (or log-in if already registered) and then click on the Career Center Seminar Schedule button and select the Holyoke Career Center to choose day and time. If you are unable to use MassHire JobQuest\, please call 413-532-4900 to schedule.
URL:https://masshireholyoke.org/event/career-center-seminar-9/
CATEGORIES:Career Center Seminars
END:VEVENT
END:VCALENDAR