BEGIN:VCALENDAR
VERSION:2.0
PRODID:-//MassHire Holyoke Career Center - ECPv6.15.17.1//NONSGML v1.0//EN
CALSCALE:GREGORIAN
METHOD:PUBLISH
X-WR-CALNAME:MassHire Holyoke Career Center
X-ORIGINAL-URL:https://masshireholyoke.org
X-WR-CALDESC:Events for MassHire Holyoke Career Center
REFRESH-INTERVAL;VALUE=DURATION:PT1H
X-Robots-Tag:noindex
X-PUBLISHED-TTL:PT1H
BEGIN:VTIMEZONE
TZID:America/New_York
BEGIN:DAYLIGHT
TZOFFSETFROM:-0500
TZOFFSETTO:-0400
TZNAME:EDT
DTSTART:20250309T070000
END:DAYLIGHT
BEGIN:STANDARD
TZOFFSETFROM:-0400
TZOFFSETTO:-0500
TZNAME:EST
DTSTART:20251102T060000
END:STANDARD
BEGIN:DAYLIGHT
TZOFFSETFROM:-0500
TZOFFSETTO:-0400
TZNAME:EDT
DTSTART:20260308T070000
END:DAYLIGHT
BEGIN:STANDARD
TZOFFSETFROM:-0400
TZOFFSETTO:-0500
TZNAME:EST
DTSTART:20261101T060000
END:STANDARD
BEGIN:DAYLIGHT
TZOFFSETFROM:-0500
TZOFFSETTO:-0400
TZNAME:EDT
DTSTART:20270314T070000
END:DAYLIGHT
BEGIN:STANDARD
TZOFFSETFROM:-0400
TZOFFSETTO:-0500
TZNAME:EST
DTSTART:20271107T060000
END:STANDARD
END:VTIMEZONE
BEGIN:VEVENT
DTSTART;TZID=America/New_York:20260227T130000
DTEND;TZID=America/New_York:20260227T150000
DTSTAMP:20260423T062214
CREATED:20260203T164450Z
LAST-MODIFIED:20260225T164202Z
UID:473748-1772197200-1772204400@masshireholyoke.org
SUMMARY:Age is an Asset Webinar
DESCRIPTION:Age is an Asset (Remote using Zoom): This webinar will discuss suggestions\, advice\, and information for older job seekers. It will discuss examples of what to include in a job search plan\, including terminology\, the assets older workers provide employers\, resume and cover letter descriptions\, as well as how to develop networking strategies and interview preparation.
URL:https://masshireholyoke.org/event/age-is-an-asset-webinar/
CATEGORIES:Webinar,Workshops
END:VEVENT
BEGIN:VEVENT
DTSTART;TZID=America/New_York:20260227T090000
DTEND;TZID=America/New_York:20260227T110000
DTSTAMP:20260423T062214
CREATED:20260203T202043Z
LAST-MODIFIED:20260203T202043Z
UID:473855-1772182800-1772190000@masshireholyoke.org
SUMMARY:Consejería de Carrera sin Cita
DESCRIPTION:No necesitas cita para este servicio de consejería “primero en llegar\, primero en ser atendido”. Las sesiones duran aproximadamente 15 minutos y el consejero puede ayudarte con muchas cosas. Los horarios para venir sin cita están indicados\, y puedes llegar en cualquier momento durante esas horas. \n✅ Revisar tu resumé (hoja de vida) y carta de presentación✅ Explorar opciones de carrera y oportunidades de entrenamiento✅ Prepararte para entrevistas✅ Conectarte con empleos disponibles\, ferias de trabajo y talleres locales✅ ¡Y mucho más! \nConsejería de Carrera sin Cita
URL:https://masshireholyoke.org/event/consejeria-de-carrera-sin-cita-21/
CATEGORIES:Servicios en Espanol
END:VEVENT
BEGIN:VEVENT
DTSTART;TZID=America/New_York:20260227T090000
DTEND;TZID=America/New_York:20260227T110000
DTSTAMP:20260423T062214
CREATED:20260203T200450Z
LAST-MODIFIED:20260203T200450Z
UID:473825-1772182800-1772190000@masshireholyoke.org
SUMMARY:Walk-In Career Counseling
DESCRIPTION:Appointments are not needed for this “First Come First serve” counseling service.   The sessions are roughly 15 minutes and the counselor can help you with a variety of things.  The walk-in hours are as listed and you can come in anytime during this time. \n✅ Have your resume and cover letter reviewed✅ Explore career options and training opportunities✅ Prepare for interviews  ✅ Connect to local job openings\, job fairs\, and workshops✅ And More!
URL:https://masshireholyoke.org/event/walk-in-career-counseling-35/
CATEGORIES:Walk In Career Counseling
END:VEVENT
BEGIN:VEVENT
DTSTART;TZID=America/New_York:20260226T130000
DTEND;TZID=America/New_York:20260226T150000
DTSTAMP:20260423T062214
CREATED:20260203T201506Z
LAST-MODIFIED:20260203T201515Z
UID:473844-1772110800-1772118000@masshireholyoke.org
SUMMARY:Consejería de Carrera sin Cita
DESCRIPTION:No necesitas cita para este servicio de consejería “primero en llegar\, primero en ser atendido”. Las sesiones duran aproximadamente 15 minutos y el consejero puede ayudarte con muchas cosas. Los horarios para venir sin cita están indicados\, y puedes llegar en cualquier momento durante esas horas. \n✅ Revisar tu resumé (hoja de vida) y carta de presentación✅ Explorar opciones de carrera y oportunidades de entrenamiento✅ Prepararte para entrevistas✅ Conectarte con empleos disponibles\, ferias de trabajo y talleres locales✅ ¡Y mucho más!
URL:https://masshireholyoke.org/event/consejeria-de-carrera-sin-cita-16/
CATEGORIES:Servicios en Espanol
END:VEVENT
BEGIN:VEVENT
DTSTART;TZID=America/New_York:20260226T130000
DTEND;TZID=America/New_York:20260226T150000
DTSTAMP:20260423T062214
CREATED:20260203T200027Z
LAST-MODIFIED:20260203T200027Z
UID:473813-1772110800-1772118000@masshireholyoke.org
SUMMARY:Walk-In Career Counseling
DESCRIPTION:Appointments are not needed for this “First Come First serve” counseling service.   The sessions are roughly 15 minutes and the counselor can help you with a variety of things.  The walk-in hours are as listed and you can come in anytime during this time. \n✅ Have your resume and cover letter reviewed✅ Explore career options and training opportunities✅ Prepare for interviews  ✅ Connect to local job openings\, job fairs\, and workshops✅ And More!
URL:https://masshireholyoke.org/event/walk-in-career-counseling-29/
END:VEVENT
BEGIN:VEVENT
DTSTART;TZID=America/New_York:20260226T103000
DTEND;TZID=America/New_York:20260226T123000
DTSTAMP:20260423T062214
CREATED:20260203T193310Z
LAST-MODIFIED:20260203T193310Z
UID:473788-1772101800-1772109000@masshireholyoke.org
SUMMARY:Orientación en Español
DESCRIPTION:Esta Orientación en Español es una session en per Orientación en Español sona en nuestra oficina en 208 la calle Race en Holyoke. Para registrarse\, por favor llame al 413-532-4900
URL:https://masshireholyoke.org/event/orientacion-en-espanol-8/
CATEGORIES:Orientación en Español
END:VEVENT
BEGIN:VEVENT
DTSTART;TZID=America/New_York:20260226T100000
DTEND;TZID=America/New_York:20260226T120000
DTSTAMP:20260423T062214
CREATED:20260203T164306Z
LAST-MODIFIED:20260203T164306Z
UID:473746-1772100000-1772107200@masshireholyoke.org
SUMMARY:Interviewing Skills Webinar
DESCRIPTION:Interviewing Skills (Remote using Zoom): During this interactive webinar you will know the steps to prepare for a successful virtual or in-person interview\, draft a Personal Commercial\, and practice questions and answers to enable you to relate your skills and accomplishments in ways to show how you can help the employer. The concept of “Information Interviews” and salary negotiations will also be discussed.
URL:https://masshireholyoke.org/event/interviewing-skills-webinar/
CATEGORIES:Webinar,Workshops
END:VEVENT
BEGIN:VEVENT
DTSTART;TZID=America/New_York:20260225T130000
DTEND;TZID=America/New_York:20260225T143000
DTSTAMP:20260423T062214
CREATED:20260203T192744Z
LAST-MODIFIED:20260203T192744Z
UID:473778-1772024400-1772029800@masshireholyoke.org
SUMMARY:Training Opportunities Webinar
DESCRIPTION:To schedule you must go to www.Mass.gov/jobquest and register as a new user (or log-in if already registered) and then click on the Career Center Seminar Schedule button and select the Holyoke Career Center to choose day and time. If you are unable to use MassHire JobQuest\, please call 413-532-4900 to schedule.
URL:https://masshireholyoke.org/event/training-opportunities-webinar-2/
CATEGORIES:Webinar
END:VEVENT
BEGIN:VEVENT
DTSTART;TZID=America/New_York:20260225T093000
DTEND;TZID=America/New_York:20260225T113000
DTSTAMP:20260423T062214
CREATED:20260203T192317Z
LAST-MODIFIED:20260203T192317Z
UID:473770-1772011800-1772019000@masshireholyoke.org
SUMMARY:Career Center Seminar
DESCRIPTION:This is an In Person Career Center Seminar to be held at MassHire Holyoke\, STEAM Building\, 208 Race Street\, Holyoke. To schedule you must go to www.Mass.gov/jobquest and register as a new user (or log-in if already registered) and then click on the Career Center Seminar Schedule button and select the Holyoke Career Center to choose day and time. If you are unable to use MassHire JobQuest\, please call 413-532-4900 to schedule.
URL:https://masshireholyoke.org/event/career-center-seminar-6/
CATEGORIES:Career Center Seminars
END:VEVENT
BEGIN:VEVENT
DTSTART;TZID=America/New_York:20260224T133000
DTEND;TZID=America/New_York:20260224T153000
DTSTAMP:20260423T062214
CREATED:20260203T160420Z
LAST-MODIFIED:20260203T160420Z
UID:473734-1771939800-1771947000@masshireholyoke.org
SUMMARY:Slay Your Resume
DESCRIPTION:Slay Your Resume (in-person): In this resume workshop you will find out what gets a resume noticed and placed at the top of the “Yes” pile. We will go over some best practices\, as well as many common Do’s and Don’ts in order to make a positive impression on employers. This workshop is good for people who need to improve their existing resume\, are in the beginning stages of creating one\, or for those who are just not quite sure why they are not getting interviews.
URL:https://masshireholyoke.org/event/slay-your-resume-6/
CATEGORIES:In Person Workshop,Workshops
END:VEVENT
BEGIN:VEVENT
DTSTART;TZID=America/New_York:20260224T100000
DTEND;TZID=America/New_York:20260224T120000
DTSTAMP:20260423T062214
CREATED:20260218T173946Z
LAST-MODIFIED:20260218T173946Z
UID:473930-1771927200-1771934400@masshireholyoke.org
SUMMARY:Hiring Event - Viability
DESCRIPTION:MassHire Holyoke is excited to host Viability – Thrive Beyond Limits for an in-person hiring event! \n🗓️ Tuesday\, February 24\, 2026\n⏰ 10:00 AM – 12:00 PM\n📍 MassHire Holyoke – STEAM Building\n208 Race Street\, Holyoke MA \nCome meet directly with a Viability recruiter and learn about meaningful careers supporting individuals and families in our community. \n✨ Now Hiring For Positions Such As: Direct Support Professionals\,\nResidential Counselors\, Case Managers\, Employment Specialist\, Nurses\, Technology Assistant Specialist and More. \nIf you’re looking for work that makes a difference every single day\, this is your opportunity! \n🔗 View current openings and apply in advance here:\nhttps://workforcenow.adp.com/mascsr/default/mdf/recruitment/recruitment.html?cid=39328f8a-c5f8-4ce8-8054-89348e073c0f&ccId=19000101_000001&type=MP&lang=en_US&selectedMenuKey=CurrentOpenings
URL:https://masshireholyoke.org/event/hiring-event-viability/
CATEGORIES:Job Fairs
END:VEVENT
BEGIN:VEVENT
DTSTART;TZID=America/New_York:20260224T100000
DTEND;TZID=America/New_York:20260224T113000
DTSTAMP:20260423T062214
CREATED:20260203T202909Z
LAST-MODIFIED:20260203T202909Z
UID:473860-1771927200-1771932600@masshireholyoke.org
SUMMARY:Computer and Internet Basics
DESCRIPTION:Hands-On Computer Workshops to Level Up Your Digital Skills. Boost your computer confidence with these interactive\, in-person workshops! Learn essential digital skills for work\, school\, and everyday life. Each session includes a free 6-month Northstar Digital Literacy membership\, so you can practice and earn industry-recognized certificates. \nChoose the Workshops That Fit Your Needs – No Prerequisites! \n\nComputer & Internet Basics – Navigate Windows 11 Operating System\, browse safely\, complete online forms\, and troubleshoot tech issues.\nGmail & Google Docs – Set up a professional Gmail\, improve email skills\, and create polished documents.\nMicrosoft Office Essentials – Learn and practice three of the most common workplace software programs: Microsoft Word\, Excel\, and PowerPoint\, to enhance your transferable skill set for employment.\nJob Search & Digital Identity – Optimize job searches\, craft strong resumes\, and manage your online presence.Gain real-world skills in a supportive\, hands-on setting. Sign up today!
URL:https://masshireholyoke.org/event/computer-and-internet-basics-5/
CATEGORIES:Computer Class in Person,Workshops
END:VEVENT
BEGIN:VEVENT
DTSTART;TZID=America/New_York:20260224T090000
DTEND;TZID=America/New_York:20260224T110000
DTSTAMP:20260423T062214
CREATED:20260203T201103Z
LAST-MODIFIED:20260203T201103Z
UID:473834-1771923600-1771930800@masshireholyoke.org
SUMMARY:Consejería de Carrera sin Cita
DESCRIPTION:No necesitas cita para este servicio de consejería “primero en llegar\, primero en ser atendido”. Las sesiones duran aproximadamente 15 minutos y el consejero puede ayudarte con muchas cosas. Los horarios para venir sin cita están indicados\, y puedes llegar en cualquier momento durante esas horas. \n✅ Revisar tu resumé (hoja de vida) y carta de presentación✅ Explorar opciones de carrera y oportunidades de entrenamiento✅ Prepararte para entrevistas✅ Conectarte con empleos disponibles\, ferias de trabajo y talleres locales✅ ¡Y mucho más!
URL:https://masshireholyoke.org/event/consejeria-de-carrera-sin-cita-11/
CATEGORIES:Servicios en Espanol
END:VEVENT
BEGIN:VEVENT
DTSTART;TZID=America/New_York:20260224T090000
DTEND;TZID=America/New_York:20260224T110000
DTSTAMP:20260423T062214
CREATED:20260203T195706Z
LAST-MODIFIED:20260203T195706Z
UID:473803-1771923600-1771930800@masshireholyoke.org
SUMMARY:Walk-In Career Counseling
DESCRIPTION:Appointments are not needed for this “First Come First serve” counseling service.   The sessions are roughly 15 minutes and the counselor can help you with a variety of things.  The walk-in hours are as listed and you can come in anytime during this time. \n✅ Have your resume and cover letter reviewed✅ Explore career options and training opportunities✅ Prepare for interviews  ✅ Connect to local job openings\, job fairs\, and workshops✅ And More!
URL:https://masshireholyoke.org/event/walk-in-career-counseling-24/
CATEGORIES:Walk In Career Counseling
END:VEVENT
BEGIN:VEVENT
DTSTART;TZID=America/New_York:20260223T130000
DTEND;TZID=America/New_York:20260223T150000
DTSTAMP:20260423T062214
CREATED:20260203T164203Z
LAST-MODIFIED:20260203T164203Z
UID:473744-1771851600-1771858800@masshireholyoke.org
SUMMARY:Job Search Tips and Tools Webinar
DESCRIPTION:Job Search Tips and Tools (Remote using Zoom): This webinar will go over the tools and strategies to ensure an efficient and successful job search. Topics include career exploration\, labor market investigation (LMI)\, where to find job openings\, how to leverage your social media accounts\, and how to develop the skills you need to land the job that is right for you. We will also discuss how MassHire Career Centers can support you along the way!
URL:https://masshireholyoke.org/event/job-search-tips-and-tools-webinar-3/
CATEGORIES:Webinar,Workshops
END:VEVENT
BEGIN:VEVENT
DTSTART;TZID=America/New_York:20260223T100000
DTEND;TZID=America/New_York:20260223T120000
DTSTAMP:20260423T062214
CREATED:20260203T191853Z
LAST-MODIFIED:20260203T191853Z
UID:473762-1771840800-1771848000@masshireholyoke.org
SUMMARY:Virtual Career Center Seminar
DESCRIPTION:This is an Interactive Live Webinar conducted via a Zoom Meeting. To schedule you must go to www.Mass.gov/jobquest and register as a new user (or log-in if already registered) and then click on the Career Center Seminar Schedule button and select the Holyoke Career Center to choose day and time. You will receive an email at least one day prior to the CCS with instructions on how to join the Zoom meeting. If you are unable to use MassHire JobQuest\, please call 413-532-4900 to schedule
URL:https://masshireholyoke.org/event/virtual-career-center-seminar-8/
CATEGORIES:Career Center Seminars,Webinar
END:VEVENT
BEGIN:VEVENT
DTSTART;TZID=America/New_York:20260223T090000
DTEND;TZID=America/New_York:20260223T110000
DTSTAMP:20260423T062214
CREATED:20260203T195355Z
LAST-MODIFIED:20260203T195355Z
UID:473795-1771837200-1771844400@masshireholyoke.org
SUMMARY:Walk-In Career Counseling
DESCRIPTION:Appointments are not needed for this “First Come First serve” counseling service.   The sessions are roughly 15 minutes and the counselor can help you with a variety of things.  The walk-in hours are as listed and you can come in anytime during this time. \n✅ Have your resume and cover letter reviewed✅ Explore career options and training opportunities✅ Prepare for interviews  ✅ Connect to local job openings\, job fairs\, and workshops✅ And More!
URL:https://masshireholyoke.org/event/walk-in-career-counseling-20/
CATEGORIES:Walk In Career Counseling
END:VEVENT
BEGIN:VEVENT
DTSTART;TZID=America/New_York:20260220T100000
DTEND;TZID=America/New_York:20260220T113000
DTSTAMP:20260423T062214
CREATED:20260203T164039Z
LAST-MODIFIED:20260203T164039Z
UID:473742-1771581600-1771587000@masshireholyoke.org
SUMMARY:Networking to Your Next Job Webinar
DESCRIPTION:Networking to Your Next Job Webinar (Remote using Zoom): Networking is an important and often unused job search tool to access the “hidden job market.” This webinar provides suggestions for creating a successful networking plan\, as well as providing a description of the “Information Interview” process.
URL:https://masshireholyoke.org/event/networking-to-your-next-job-webinar-2/
CATEGORIES:Webinar,Workshops
END:VEVENT
BEGIN:VEVENT
DTSTART;TZID=America/New_York:20260220T090000
DTEND;TZID=America/New_York:20260220T110000
DTSTAMP:20260423T062214
CREATED:20260203T202004Z
LAST-MODIFIED:20260203T202004Z
UID:473853-1771578000-1771585200@masshireholyoke.org
SUMMARY:Consejería de Carrera sin Cita
DESCRIPTION:No necesitas cita para este servicio de consejería “primero en llegar\, primero en ser atendido”. Las sesiones duran aproximadamente 15 minutos y el consejero puede ayudarte con muchas cosas. Los horarios para venir sin cita están indicados\, y puedes llegar en cualquier momento durante esas horas. \n✅ Revisar tu resumé (hoja de vida) y carta de presentación✅ Explorar opciones de carrera y oportunidades de entrenamiento✅ Prepararte para entrevistas✅ Conectarte con empleos disponibles\, ferias de trabajo y talleres locales✅ ¡Y mucho más!
URL:https://masshireholyoke.org/event/consejeria-de-carrera-sin-cita-20/
CATEGORIES:Servicios en Espanol
END:VEVENT
BEGIN:VEVENT
DTSTART;TZID=America/New_York:20260220T090000
DTEND;TZID=America/New_York:20260220T110000
DTSTAMP:20260423T062214
CREATED:20260203T200413Z
LAST-MODIFIED:20260203T200413Z
UID:473823-1771578000-1771585200@masshireholyoke.org
SUMMARY:Walk-In Career Counseling
DESCRIPTION:Appointments are not needed for this “First Come First serve” counseling service.   The sessions are roughly 15 minutes and the counselor can help you with a variety of things.  The walk-in hours are as listed and you can come in anytime during this time. \n✅ Have your resume and cover letter reviewed✅ Explore career options and training opportunities✅ Prepare for interviews  ✅ Connect to local job openings\, job fairs\, and workshops✅ And More!
URL:https://masshireholyoke.org/event/walk-in-career-counseling-34/
CATEGORIES:Walk In Career Counseling
END:VEVENT
BEGIN:VEVENT
DTSTART;TZID=America/New_York:20260219T130000
DTEND;TZID=America/New_York:20260219T150000
DTSTAMP:20260423T062214
CREATED:20260203T201419Z
LAST-MODIFIED:20260203T201419Z
UID:473842-1771506000-1771513200@masshireholyoke.org
SUMMARY:Consejería de Carrera sin Cita
DESCRIPTION:No necesitas cita para este servicio de consejería “primero en llegar\, primero en ser atendido”. Las sesiones duran aproximadamente 15 minutos y el consejero puede ayudarte con muchas cosas. Los horarios para venir sin cita están indicados\, y puedes llegar en cualquier momento durante esas horas. \n✅ Revisar tu resumé (hoja de vida) y carta de presentación✅ Explorar opciones de carrera y oportunidades de entrenamiento✅ Prepararte para entrevistas✅ Conectarte con empleos disponibles\, ferias de trabajo y talleres locales✅ ¡Y mucho más!
URL:https://masshireholyoke.org/event/consejeria-de-carrera-sin-cita-15/
CATEGORIES:Servicios en Espanol
END:VEVENT
BEGIN:VEVENT
DTSTART;TZID=America/New_York:20260219T130000
DTEND;TZID=America/New_York:20260219T150000
DTSTAMP:20260423T062214
CREATED:20260203T195949Z
LAST-MODIFIED:20260203T195949Z
UID:473811-1771506000-1771513200@masshireholyoke.org
SUMMARY:Walk-In Career Counseling
DESCRIPTION:Appointments are not needed for this “First Come First serve” counseling service.   The sessions are roughly 15 minutes and the counselor can help you with a variety of things.  The walk-in hours are as listed and you can come in anytime during this time. \n✅ Have your resume and cover letter reviewed✅ Explore career options and training opportunities✅ Prepare for interviews  ✅ Connect to local job openings\, job fairs\, and workshops✅ And More!
URL:https://masshireholyoke.org/event/walk-in-career-counseling-28/
CATEGORIES:Walk In Career Counseling
END:VEVENT
BEGIN:VEVENT
DTSTART;TZID=America/New_York:20260219T130000
DTEND;TZID=America/New_York:20260219T150000
DTSTAMP:20260423T062214
CREATED:20260203T163935Z
LAST-MODIFIED:20260203T163935Z
UID:473740-1771506000-1771513200@masshireholyoke.org
SUMMARY:The Curious Candidate Webinar
DESCRIPTION:The Curious Candidate-A Career Exploration Webinar (Remote using Zoom): Are you considering a career change either to earn more money\, for greater personal fulfillment\, more flexibility or simply to try something new? It is all too easy to get “career pathway tunnel vision” and feel stuck in one particular occupation. This webinar will help participants assess their priorities\, needs and interests in choosing a new career pathway\, as well as identifying where they can apply their transferable skills and experience to new opportunities\, and how they can pursue training opportunities to fill any skills gaps.
URL:https://masshireholyoke.org/event/the-curious-candidate-webinar-3/
CATEGORIES:Webinar,Workshops
END:VEVENT
BEGIN:VEVENT
DTSTART;TZID=America/New_York:20260219T103000
DTEND;TZID=America/New_York:20260219T123000
DTSTAMP:20260423T062214
CREATED:20260203T193210Z
LAST-MODIFIED:20260203T193210Z
UID:473786-1771497000-1771504200@masshireholyoke.org
SUMMARY:Orientación en Español
DESCRIPTION:Esta Orientación en Español es una session en per Orientación en Español sona en nuestra oficina en 208 la calle Race en Holyoke. Para registrarse\, por favor llame al 413-532-4900
URL:https://masshireholyoke.org/event/orientacion-en-espanol-7/
END:VEVENT
BEGIN:VEVENT
DTSTART;TZID=America/New_York:20260218T130000
DTEND;TZID=America/New_York:20260218T150000
DTSTAMP:20260423T062214
CREATED:20260203T192233Z
LAST-MODIFIED:20260203T192233Z
UID:473768-1771419600-1771426800@masshireholyoke.org
SUMMARY:Career Center Seminar
DESCRIPTION:This is an In Person Career Center Seminar to be held at MassHire Holyoke\, STEAM Building\, 208 Race Street\, Holyoke. To schedule you must go to www.Mass.gov/jobquest and register as a new user (or log-in if already registered) and then click on the Career Center Seminar Schedule button and select the Holyoke Career Center to choose day and time. If you are unable to use MassHire JobQuest\, please call 413-532-4900 to schedule.
URL:https://masshireholyoke.org/event/career-center-seminar-5/
CATEGORIES:Career Center Seminars
END:VEVENT
BEGIN:VEVENT
DTSTART;TZID=America/New_York:20260218T130000
DTEND;TZID=America/New_York:20260218T143000
DTSTAMP:20260423T062214
CREATED:20260203T192640Z
LAST-MODIFIED:20260303T160436Z
UID:473776-1771419600-1771425000@masshireholyoke.org
SUMMARY:Training Opportunities Webinar
DESCRIPTION:Training Opportunities: This information session will discuss various training grant opportunities\, funding and eligibility possibilities. Training opportunities are for Western Massachusetts residents only. \n***Note: Attending this webinar is a prerequisite first step in order to pursue grant funding through the Workforce Innovation Opportunity Act (WIOA) to pay for the cost of certain training programs. \nTo register:  Please call our main number at 413-532-4900
URL:https://masshireholyoke.org/event/training-opportunities-webinar/
END:VEVENT
BEGIN:VEVENT
DTSTART;TZID=America/New_York:20260217T100000
DTEND;TZID=America/New_York:20260217T113000
DTSTAMP:20260423T062214
CREATED:20260203T155910Z
LAST-MODIFIED:20260203T155910Z
UID:473726-1771322400-1771327800@masshireholyoke.org
SUMMARY:Job Search Strategies and Your Digital Identity
DESCRIPTION:Hands-On Computer Workshops to Level Up Your Digital Skills. Boost your computer confidence with these interactive\, in-person workshops! Learn essential digital skills for work\, school\, and everyday life. Each session includes a free 6-month Northstar Digital Literacy membership\, so you can practice and earn industry-recognized certificates. \nChoose the Workshops That Fit Your Needs – No Prerequisites! \n\nComputer & Internet Basics – Navigate Windows 11 Operating System\, browse safely\, complete online forms\, and troubleshoot tech issues.\nGmail & Google Docs – Set up a professional Gmail\, improve email skills\, and create polished documents.\nMicrosoft Office Essentials – Learn and practice three of the most common workplace software programs: Microsoft Word\, Excel\, and PowerPoint\, to enhance your transferable skill set for employment.\nJob Search & Digital Identity – Optimize job searches\, craft strong resumes\, and manage your online presence.\nGain real-world skills in a supportive\, hands-on setting. Sign up today!
URL:https://masshireholyoke.org/event/job-search-strategies-and-your-digital-identity/
CATEGORIES:Computer Class in Person,Workshops
END:VEVENT
BEGIN:VEVENT
DTSTART;TZID=America/New_York:20260217T090000
DTEND;TZID=America/New_York:20260217T110000
DTSTAMP:20260423T062214
CREATED:20260203T201023Z
LAST-MODIFIED:20260203T201023Z
UID:473832-1771318800-1771326000@masshireholyoke.org
SUMMARY:Consejería de Carrera sin Cita
DESCRIPTION:No necesitas cita para este servicio de consejería “primero en llegar\, primero en ser atendido”. Las sesiones duran aproximadamente 15 minutos y el consejero puede ayudarte con muchas cosas. Los horarios para venir sin cita están indicados\, y puedes llegar en cualquier momento durante esas horas. \n✅ Revisar tu resumé (hoja de vida) y carta de presentación✅ Explorar opciones de carrera y oportunidades de entrenamiento✅ Prepararte para entrevistas✅ Conectarte con empleos disponibles\, ferias de trabajo y talleres locales✅ ¡Y mucho más!
URL:https://masshireholyoke.org/event/consejeria-de-carrera-sin-cita-10/
CATEGORIES:Servicios en Espanol
END:VEVENT
BEGIN:VEVENT
DTSTART;TZID=America/New_York:20260217T090000
DTEND;TZID=America/New_York:20260217T110000
DTSTAMP:20260423T062214
CREATED:20260203T195618Z
LAST-MODIFIED:20260203T195618Z
UID:473801-1771318800-1771326000@masshireholyoke.org
SUMMARY:Walk-In Career Counseling
DESCRIPTION:Appointments are not needed for this “First Come First serve” counseling service.   The sessions are roughly 15 minutes and the counselor can help you with a variety of things.  The walk-in hours are as listed and you can come in anytime during this time. \n✅ Have your resume and cover letter reviewed✅ Explore career options and training opportunities✅ Prepare for interviews  ✅ Connect to local job openings\, job fairs\, and workshops✅ And More!
URL:https://masshireholyoke.org/event/walk-in-career-counseling-23/
CATEGORIES:Walk In Career Counseling
END:VEVENT
BEGIN:VEVENT
DTSTART;TZID=America/New_York:20260213T100000
DTEND;TZID=America/New_York:20260213T120000
DTSTAMP:20260423T062214
CREATED:20260203T163800Z
LAST-MODIFIED:20260203T163800Z
UID:473738-1770976800-1770984000@masshireholyoke.org
SUMMARY:ChatGPT-Your Job Search Key
DESCRIPTION:ChatGPT-Your Job Search Key: Discover how ChatGPT can turbocharge your job search! Join our workshop\, ‘ChatGPT-Your Job Search Key’ and learn expert strategies to optimize resumes\, target job searches\, ace interviews\, and negotiate salaries. Regardless of where you are in the job search process\, this workshop will revolutionize your approach to landing your dream job. Don’t miss out — secure your spot now and accelerate your career with ChatGPT!
URL:https://masshireholyoke.org/event/chatgpt-your-job-search-key-3/
CATEGORIES:Webinar,Workshops
END:VEVENT
END:VCALENDAR