BEGIN:VCALENDAR
VERSION:2.0
PRODID:-//MassHire Holyoke Career Center - ECPv6.15.17.1//NONSGML v1.0//EN
CALSCALE:GREGORIAN
METHOD:PUBLISH
X-ORIGINAL-URL:https://masshireholyoke.org
X-WR-CALDESC:Events for MassHire Holyoke Career Center
REFRESH-INTERVAL;VALUE=DURATION:PT1H
X-Robots-Tag:noindex
X-PUBLISHED-TTL:PT1H
BEGIN:VTIMEZONE
TZID:America/New_York
BEGIN:DAYLIGHT
TZOFFSETFROM:-0500
TZOFFSETTO:-0400
TZNAME:EDT
DTSTART:20250309T070000
END:DAYLIGHT
BEGIN:STANDARD
TZOFFSETFROM:-0400
TZOFFSETTO:-0500
TZNAME:EST
DTSTART:20251102T060000
END:STANDARD
BEGIN:DAYLIGHT
TZOFFSETFROM:-0500
TZOFFSETTO:-0400
TZNAME:EDT
DTSTART:20260308T070000
END:DAYLIGHT
BEGIN:STANDARD
TZOFFSETFROM:-0400
TZOFFSETTO:-0500
TZNAME:EST
DTSTART:20261101T060000
END:STANDARD
BEGIN:DAYLIGHT
TZOFFSETFROM:-0500
TZOFFSETTO:-0400
TZNAME:EDT
DTSTART:20270314T070000
END:DAYLIGHT
BEGIN:STANDARD
TZOFFSETFROM:-0400
TZOFFSETTO:-0500
TZNAME:EST
DTSTART:20271107T060000
END:STANDARD
END:VTIMEZONE
BEGIN:VEVENT
DTSTART;TZID=America/New_York:20260209T100000
DTEND;TZID=America/New_York:20260209T120000
DTSTAMP:20260423T235610
CREATED:20260203T191812Z
LAST-MODIFIED:20260203T202405Z
UID:473760-1770631200-1770638400@masshireholyoke.org
SUMMARY:Virtual Career Center Seminar
DESCRIPTION:This is an Interactive Live Webinar conducted via a Zoom Meeting. To schedule you must go to www.Mass.gov/jobquest and register as a new user (or log-in if already registered) and then click on the Career Center Seminar Schedule button and select the Holyoke Career Center to choose day and time. You will receive an email at least one day prior to the CCS with instructions on how to join the Zoom meeting. If you are unable to use MassHire JobQuest\, please call 413-532-4900 to schedule
URL:https://masshireholyoke.org/event/virtual-career-center-seminar-7/
CATEGORIES:Career Center Seminars,Webinar
END:VEVENT
BEGIN:VEVENT
DTSTART;TZID=America/New_York:20260209T130000
DTEND;TZID=America/New_York:20260209T150000
DTSTAMP:20260423T235610
CREATED:20260203T155213Z
LAST-MODIFIED:20260203T155213Z
UID:473722-1770642000-1770649200@masshireholyoke.org
SUMMARY:Outsmart the Resume Robots Webinar
DESCRIPTION:In this webinar you will learn what Applicant Tracking Systems (ATS) are and what happens after an applicant applies for a job online through an ATS Platform. We will teach you how to create a resume that will get you noticed through these systems and how to maximize your chances of getting a response from employers throughout the online job application process. We will also discuss how ATS benefit employers\, and apply that knowledge to the online application process in order to maximize your chances of getting an interview.
URL:https://masshireholyoke.org/event/outsmart-the-resume-robots-webinar-2/
CATEGORIES:Webinar,Workshops
END:VEVENT
END:VCALENDAR