BEGIN:VCALENDAR
VERSION:2.0
PRODID:-//MassHire Holyoke Career Center - ECPv6.15.17.1//NONSGML v1.0//EN
CALSCALE:GREGORIAN
METHOD:PUBLISH
X-ORIGINAL-URL:https://masshireholyoke.org
X-WR-CALDESC:Events for MassHire Holyoke Career Center
REFRESH-INTERVAL;VALUE=DURATION:PT1H
X-Robots-Tag:noindex
X-PUBLISHED-TTL:PT1H
BEGIN:VTIMEZONE
TZID:America/New_York
BEGIN:DAYLIGHT
TZOFFSETFROM:-0500
TZOFFSETTO:-0400
TZNAME:EDT
DTSTART:20250309T070000
END:DAYLIGHT
BEGIN:STANDARD
TZOFFSETFROM:-0400
TZOFFSETTO:-0500
TZNAME:EST
DTSTART:20251102T060000
END:STANDARD
BEGIN:DAYLIGHT
TZOFFSETFROM:-0500
TZOFFSETTO:-0400
TZNAME:EDT
DTSTART:20260308T070000
END:DAYLIGHT
BEGIN:STANDARD
TZOFFSETFROM:-0400
TZOFFSETTO:-0500
TZNAME:EST
DTSTART:20261101T060000
END:STANDARD
BEGIN:DAYLIGHT
TZOFFSETFROM:-0500
TZOFFSETTO:-0400
TZNAME:EDT
DTSTART:20270314T070000
END:DAYLIGHT
BEGIN:STANDARD
TZOFFSETFROM:-0400
TZOFFSETTO:-0500
TZNAME:EST
DTSTART:20271107T060000
END:STANDARD
END:VTIMEZONE
BEGIN:VEVENT
DTSTART;TZID=America/New_York:20260407T133000
DTEND;TZID=America/New_York:20260407T153000
DTSTAMP:20260423T045651
CREATED:20260327T191627Z
LAST-MODIFIED:20260327T191627Z
UID:474290-1775568600-1775575800@masshireholyoke.org
SUMMARY:Slay Your Resume
DESCRIPTION:Slay Your Resume (in-person): In this resume workshop you will find out what gets a resume noticed and placed at the top of the “Yes” pile. We will go over some best practices\, as well as many common Do’s and Don’ts in order to make a positive impression on employers. This workshop is good for people who need to improve their existing resume\, are in the beginning stages of creating one\, or for those who are just not quite sure why they are not getting interviews.
URL:https://masshireholyoke.org/event/slay-your-resume-2/
CATEGORIES:In Person Workshop
END:VEVENT
END:VCALENDAR