BEGIN:VCALENDAR
VERSION:2.0
PRODID:-//MassHire Holyoke Career Center - ECPv6.15.17.1//NONSGML v1.0//EN
CALSCALE:GREGORIAN
METHOD:PUBLISH
X-WR-CALNAME:MassHire Holyoke Career Center
X-ORIGINAL-URL:https://masshireholyoke.org
X-WR-CALDESC:Events for MassHire Holyoke Career Center
REFRESH-INTERVAL;VALUE=DURATION:PT1H
X-Robots-Tag:noindex
X-PUBLISHED-TTL:PT1H
BEGIN:VTIMEZONE
TZID:America/New_York
BEGIN:DAYLIGHT
TZOFFSETFROM:-0500
TZOFFSETTO:-0400
TZNAME:EDT
DTSTART:20250309T070000
END:DAYLIGHT
BEGIN:STANDARD
TZOFFSETFROM:-0400
TZOFFSETTO:-0500
TZNAME:EST
DTSTART:20251102T060000
END:STANDARD
BEGIN:DAYLIGHT
TZOFFSETFROM:-0500
TZOFFSETTO:-0400
TZNAME:EDT
DTSTART:20260308T070000
END:DAYLIGHT
BEGIN:STANDARD
TZOFFSETFROM:-0400
TZOFFSETTO:-0500
TZNAME:EST
DTSTART:20261101T060000
END:STANDARD
BEGIN:DAYLIGHT
TZOFFSETFROM:-0500
TZOFFSETTO:-0400
TZNAME:EDT
DTSTART:20270314T070000
END:DAYLIGHT
BEGIN:STANDARD
TZOFFSETFROM:-0400
TZOFFSETTO:-0500
TZNAME:EST
DTSTART:20271107T060000
END:STANDARD
END:VTIMEZONE
BEGIN:VEVENT
DTSTART;TZID=America/New_York:20260423T100000
DTEND;TZID=America/New_York:20260423T120000
DTSTAMP:20260423T055419
CREATED:20260327T193136Z
LAST-MODIFIED:20260327T193136Z
UID:474312-1776938400-1776945600@masshireholyoke.org
SUMMARY:Job Search Tips and Tools Webinar
DESCRIPTION:Job Search Tips and Tools (Remote using Zoom): This webinar will go over the tools and strategies to ensure an efficient and successful job search. Topics include career exploration\, labor market investigation (LMI)\, where to find job openings\, how to leverage your social media accounts\, and how to develop the skills you need to land the job that is right for you. We will also discuss how MassHire Career Centers can support you along the way!
URL:https://masshireholyoke.org/event/job-search-tips-and-tools-webinar-6/
CATEGORIES:Webinar
END:VEVENT
BEGIN:VEVENT
DTSTART;TZID=America/New_York:20260423T113000
DTEND;TZID=America/New_York:20260423T130000
DTSTAMP:20260423T055419
CREATED:20260312T144604Z
LAST-MODIFIED:20260312T144604Z
UID:474215-1776943800-1776949200@masshireholyoke.org
SUMMARY:J Polep Hiring Event
DESCRIPTION:
URL:https://masshireholyoke.org/event/j-polep-hiring-event/
CATEGORIES:Upcoming Events
END:VEVENT
END:VCALENDAR