BEGIN:VCALENDAR
VERSION:2.0
PRODID:-//MassHire Holyoke Career Center - ECPv6.15.17.1//NONSGML v1.0//EN
CALSCALE:GREGORIAN
METHOD:PUBLISH
X-WR-CALNAME:MassHire Holyoke Career Center
X-ORIGINAL-URL:https://masshireholyoke.org
X-WR-CALDESC:Events for MassHire Holyoke Career Center
REFRESH-INTERVAL;VALUE=DURATION:PT1H
X-Robots-Tag:noindex
X-PUBLISHED-TTL:PT1H
BEGIN:VTIMEZONE
TZID:America/New_York
BEGIN:DAYLIGHT
TZOFFSETFROM:-0500
TZOFFSETTO:-0400
TZNAME:EDT
DTSTART:20250309T070000
END:DAYLIGHT
BEGIN:STANDARD
TZOFFSETFROM:-0400
TZOFFSETTO:-0500
TZNAME:EST
DTSTART:20251102T060000
END:STANDARD
BEGIN:DAYLIGHT
TZOFFSETFROM:-0500
TZOFFSETTO:-0400
TZNAME:EDT
DTSTART:20260308T070000
END:DAYLIGHT
BEGIN:STANDARD
TZOFFSETFROM:-0400
TZOFFSETTO:-0500
TZNAME:EST
DTSTART:20261101T060000
END:STANDARD
BEGIN:DAYLIGHT
TZOFFSETFROM:-0500
TZOFFSETTO:-0400
TZNAME:EDT
DTSTART:20270314T070000
END:DAYLIGHT
BEGIN:STANDARD
TZOFFSETFROM:-0400
TZOFFSETTO:-0500
TZNAME:EST
DTSTART:20271107T060000
END:STANDARD
END:VTIMEZONE
BEGIN:VEVENT
DTSTART;TZID=America/New_York:20260331T090000
DTEND;TZID=America/New_York:20260331T110000
DTSTAMP:20260425T074520
CREATED:20260303T180129Z
LAST-MODIFIED:20260303T180129Z
UID:474153-1774947600-1774954800@masshireholyoke.org
SUMMARY:Walk-In Career Counseling
DESCRIPTION:Appointments are not needed for this “First Come First serve” counseling service.   The sessions are roughly 15 minutes and the counselor can help you with a variety of things.  The walk-in hours are as listed and you can come in anytime during this time. \n✅ Have your resume and cover letter reviewed✅ Explore career options and training opportunities✅ Prepare for interviews  ✅ Connect to local job openings\, job fairs\, and workshops✅ And More!
URL:https://masshireholyoke.org/event/walk-in-career-counseling-8/
CATEGORIES:Walk In Career Counseling
END:VEVENT
BEGIN:VEVENT
DTSTART;TZID=America/New_York:20260331T100000
DTEND;TZID=America/New_York:20260331T113000
DTSTAMP:20260425T074520
CREATED:20260303T155612Z
LAST-MODIFIED:20260303T155720Z
UID:474091-1774951200-1774956600@masshireholyoke.org
SUMMARY:Using Gmail and Google Docs
DESCRIPTION:Hands-On Computer Workshops to Level Up Your Digital Skills\nBoost your computer confidence with these interactive\, in-person workshops! Learn essential digital skills for work\, school\, and everyday life. Each session includes a free 6-month Northstar Digital Literacy membership\, so you can practice and earn industry-recognized certificates. \nChoose the Workshops That Fit Your Needs – No Prerequisites!\n\n\nComputer & Internet Basics – Navigate Windows 11 Operating System\, browse safely\, complete online forms\, and troubleshoot tech issues.\n\n\nGmail & Google Docs – Set up a professional Gmail\, improve email skills\, and create polished\n\n\nMicrosoft Office Essentials – Learn and practice three of the most common workplace software programs: Microsoft Word\, Excel\, and PowerPoint\, to enhance your transferable skill set for\n\nJob Search & Digital Identity – Optimize job searches\, craft strong resumes\, and manage your online presence.\n\nGain real-world skills in a supportive\, hands-on setting. Sign up today!
URL:https://masshireholyoke.org/event/using-gmail-and-google-docs-3/
CATEGORIES:Computer Class in Person
END:VEVENT
END:VCALENDAR