BEGIN:VCALENDAR
VERSION:2.0
PRODID:-//MassHire Holyoke Career Center - ECPv6.15.17.1//NONSGML v1.0//EN
CALSCALE:GREGORIAN
METHOD:PUBLISH
X-ORIGINAL-URL:https://masshireholyoke.org
X-WR-CALDESC:Events for MassHire Holyoke Career Center
REFRESH-INTERVAL;VALUE=DURATION:PT1H
X-Robots-Tag:noindex
X-PUBLISHED-TTL:PT1H
BEGIN:VTIMEZONE
TZID:America/New_York
BEGIN:DAYLIGHT
TZOFFSETFROM:-0500
TZOFFSETTO:-0400
TZNAME:EDT
DTSTART:20250309T070000
END:DAYLIGHT
BEGIN:STANDARD
TZOFFSETFROM:-0400
TZOFFSETTO:-0500
TZNAME:EST
DTSTART:20251102T060000
END:STANDARD
BEGIN:DAYLIGHT
TZOFFSETFROM:-0500
TZOFFSETTO:-0400
TZNAME:EDT
DTSTART:20260308T070000
END:DAYLIGHT
BEGIN:STANDARD
TZOFFSETFROM:-0400
TZOFFSETTO:-0500
TZNAME:EST
DTSTART:20261101T060000
END:STANDARD
BEGIN:DAYLIGHT
TZOFFSETFROM:-0500
TZOFFSETTO:-0400
TZNAME:EDT
DTSTART:20270314T070000
END:DAYLIGHT
BEGIN:STANDARD
TZOFFSETFROM:-0400
TZOFFSETTO:-0500
TZNAME:EST
DTSTART:20271107T060000
END:STANDARD
END:VTIMEZONE
BEGIN:VEVENT
DTSTART;TZID=America/New_York:20260330T090000
DTEND;TZID=America/New_York:20260330T110000
DTSTAMP:20260425T074831
CREATED:20260303T164446Z
LAST-MODIFIED:20260303T164446Z
UID:474145-1774861200-1774868400@masshireholyoke.org
SUMMARY:Walk-In Career Counseling
DESCRIPTION:Appointments are not needed for this “First Come First serve” counseling service.   The sessions are roughly 15 minutes and the counselor can help you with a variety of things.  The walk-in hours are as listed and you can come in anytime during this time. \n✅ Have your resume and cover letter reviewed✅ Explore career options and training opportunities✅ Prepare for interviews  ✅ Connect to local job openings\, job fairs\, and workshops✅ And More!
URL:https://masshireholyoke.org/event/walk-in-career-counseling-4/
END:VEVENT
BEGIN:VEVENT
DTSTART;TZID=America/New_York:20260330T100000
DTEND;TZID=America/New_York:20260330T120000
DTSTAMP:20260425T074831
CREATED:20260303T161325Z
LAST-MODIFIED:20260303T161325Z
UID:474118-1774864800-1774872000@masshireholyoke.org
SUMMARY:Virtual Career Center Seminar
DESCRIPTION:This is an Interactive Live Webinar conducted via a Zoom Meeting. To schedule you must go to www.Mass.gov/jobquest and register as a new user (or log-in if already registered) and then click on the Career Center Seminar Schedule button and select the Holyoke Career Center to choose day and time. You will receive an email at least one day prior to the CCS with instructions on how to join the Zoom meeting. If you are unable to use MassHire JobQuest\, please call 413-532-4900 to schedule.
URL:https://masshireholyoke.org/event/virtual-career-center-seminar-13/
CATEGORIES:Career Center Seminars,Webinar
END:VEVENT
BEGIN:VEVENT
DTSTART;TZID=America/New_York:20260330T130000
DTEND;TZID=America/New_York:20260330T150000
DTSTAMP:20260425T074831
CREATED:20260227T154653Z
LAST-MODIFIED:20260227T154653Z
UID:474024-1774875600-1774882800@masshireholyoke.org
SUMMARY:The Curious Candidate
DESCRIPTION:The Curious Candidate-A Career Exploration Webinar (Remote using Zoom): Are you considering a career change either to earn more money\, for greater personal fulfillment\, more flexibility or simply to try something new? It is all too easy to get “career pathway tunnel vision” and feel stuck in one particular occupation. This webinar will help participants assess their priorities\, needs and interests in choosing a new career pathway\, as well as identifying where they can apply their transferable skills and experience to new opportunities\, and how they can pursue training opportunities to fill any skills gaps. \n 
URL:https://masshireholyoke.org/event/the-curious-candidate/
CATEGORIES:Webinar,Workshops
END:VEVENT
END:VCALENDAR