BEGIN:VCALENDAR
VERSION:2.0
PRODID:-//MassHire Holyoke Career Center - ECPv6.15.17.1//NONSGML v1.0//EN
CALSCALE:GREGORIAN
METHOD:PUBLISH
X-WR-CALNAME:MassHire Holyoke Career Center
X-ORIGINAL-URL:https://masshireholyoke.org
X-WR-CALDESC:Events for MassHire Holyoke Career Center
REFRESH-INTERVAL;VALUE=DURATION:PT1H
X-Robots-Tag:noindex
X-PUBLISHED-TTL:PT1H
BEGIN:VTIMEZONE
TZID:America/New_York
BEGIN:DAYLIGHT
TZOFFSETFROM:-0500
TZOFFSETTO:-0400
TZNAME:EDT
DTSTART:20250309T070000
END:DAYLIGHT
BEGIN:STANDARD
TZOFFSETFROM:-0400
TZOFFSETTO:-0500
TZNAME:EST
DTSTART:20251102T060000
END:STANDARD
BEGIN:DAYLIGHT
TZOFFSETFROM:-0500
TZOFFSETTO:-0400
TZNAME:EDT
DTSTART:20260308T070000
END:DAYLIGHT
BEGIN:STANDARD
TZOFFSETFROM:-0400
TZOFFSETTO:-0500
TZNAME:EST
DTSTART:20261101T060000
END:STANDARD
BEGIN:DAYLIGHT
TZOFFSETFROM:-0500
TZOFFSETTO:-0400
TZNAME:EDT
DTSTART:20270314T070000
END:DAYLIGHT
BEGIN:STANDARD
TZOFFSETFROM:-0400
TZOFFSETTO:-0500
TZNAME:EST
DTSTART:20271107T060000
END:STANDARD
END:VTIMEZONE
BEGIN:VEVENT
DTSTART;TZID=America/New_York:20260326T100000
DTEND;TZID=America/New_York:20260326T113000
DTSTAMP:20260425T135154
CREATED:20260227T142952Z
LAST-MODIFIED:20260227T154301Z
UID:474020-1774519200-1774524600@masshireholyoke.org
SUMMARY:Networking to Your Next Job Webinar
DESCRIPTION:Networking to Your Next Job Webinar (Remote using Zoom): Networking is an important and often unused job search tool to access the “hidden job market.” This webinar provides suggestions for creating a successful networking plan\, as well as providing a description of the “Information Interview” process.
URL:https://masshireholyoke.org/event/networking-to-your-next-job-webinar-4/
CATEGORIES:Webinar,Workshops
END:VEVENT
BEGIN:VEVENT
DTSTART;TZID=America/New_York:20260326T103000
DTEND;TZID=America/New_York:20260326T123000
DTSTAMP:20260425T135154
CREATED:20260303T162015Z
LAST-MODIFIED:20260303T162015Z
UID:474132-1774521000-1774528200@masshireholyoke.org
SUMMARY:Orientación en Español
DESCRIPTION:Esta Orientación en Español es una session en per Orientación en Español sona en nuestra oficina en 208 la calle Race en Holyoke. Para registrarse\, por favor llame al 413-532-4900.
URL:https://masshireholyoke.org/event/orientacion-en-espanol-11/
CATEGORIES:Orientación en Español
END:VEVENT
BEGIN:VEVENT
DTSTART;TZID=America/New_York:20260326T130000
DTEND;TZID=America/New_York:20260326T160000
DTSTAMP:20260425T135154
CREATED:20260312T144303Z
LAST-MODIFIED:20260312T144436Z
UID:474211-1774530000-1774540800@masshireholyoke.org
SUMMARY:Manufacturing Job Fair
DESCRIPTION:
URL:https://masshireholyoke.org/event/manufacturing-job-fair/
CATEGORIES:Upcoming Events
END:VEVENT
END:VCALENDAR