BEGIN:VCALENDAR
VERSION:2.0
PRODID:-//MassHire Holyoke Career Center - ECPv6.15.17.1//NONSGML v1.0//EN
CALSCALE:GREGORIAN
METHOD:PUBLISH
X-WR-CALNAME:MassHire Holyoke Career Center
X-ORIGINAL-URL:https://masshireholyoke.org
X-WR-CALDESC:Events for MassHire Holyoke Career Center
REFRESH-INTERVAL;VALUE=DURATION:PT1H
X-Robots-Tag:noindex
X-PUBLISHED-TTL:PT1H
BEGIN:VTIMEZONE
TZID:America/New_York
BEGIN:DAYLIGHT
TZOFFSETFROM:-0500
TZOFFSETTO:-0400
TZNAME:EDT
DTSTART:20250309T070000
END:DAYLIGHT
BEGIN:STANDARD
TZOFFSETFROM:-0400
TZOFFSETTO:-0500
TZNAME:EST
DTSTART:20251102T060000
END:STANDARD
BEGIN:DAYLIGHT
TZOFFSETFROM:-0500
TZOFFSETTO:-0400
TZNAME:EDT
DTSTART:20260308T070000
END:DAYLIGHT
BEGIN:STANDARD
TZOFFSETFROM:-0400
TZOFFSETTO:-0500
TZNAME:EST
DTSTART:20261101T060000
END:STANDARD
BEGIN:DAYLIGHT
TZOFFSETFROM:-0500
TZOFFSETTO:-0400
TZNAME:EDT
DTSTART:20270314T070000
END:DAYLIGHT
BEGIN:STANDARD
TZOFFSETFROM:-0400
TZOFFSETTO:-0500
TZNAME:EST
DTSTART:20271107T060000
END:STANDARD
END:VTIMEZONE
BEGIN:VEVENT
DTSTART;TZID=America/New_York:20260325T093000
DTEND;TZID=America/New_York:20260325T113000
DTSTAMP:20260425T152515
CREATED:20260303T161613Z
LAST-MODIFIED:20260303T161613Z
UID:474124-1774431000-1774438200@masshireholyoke.org
SUMMARY:Career Center Seminar
DESCRIPTION:This is an In Person Career Center Seminar to be held at MassHire Holyoke\, STEAM Building\, 208 Race Street\, Holyoke. To schedule you must go to www.Mass.gov/jobquest and register as a new user (or log-in if already registered) and then click on the Career Center Seminar Schedule button and select the Holyoke Career Center to choose day and time. If you are unable to use MassHire JobQuest\, please call 413-532-4900 to schedule.
URL:https://masshireholyoke.org/event/career-center-seminar-10/
CATEGORIES:Career Center Seminars
END:VEVENT
BEGIN:VEVENT
DTSTART;TZID=America/New_York:20260325T130000
DTEND;TZID=America/New_York:20260325T143000
DTSTAMP:20260425T152515
CREATED:20260302T172549Z
LAST-MODIFIED:20260302T172549Z
UID:474057-1774443600-1774449000@masshireholyoke.org
SUMMARY:Training Opportunities Webinar
DESCRIPTION:Training Grant Opportunities (Remote using Zoom): This webinar will discuss various training grant opportunities\, funding and eligibility possibilities. Training opportunities are for Western Massachusetts residents only. \n***Note: Attending this webinar is a prerequisite first step in order to pursue grant funding through the Workforce Innovation Opportunity Act (WIOA) to pay for the cost of certain training programs.
URL:https://masshireholyoke.org/event/training-opportunities-webinar-5/
CATEGORIES:Webinar,Workshops
END:VEVENT
BEGIN:VEVENT
DTSTART;TZID=America/New_York:20260325T133000
DTEND;TZID=America/New_York:20260325T153000
DTSTAMP:20260425T152515
CREATED:20260303T161237Z
LAST-MODIFIED:20260303T161237Z
UID:474116-1774445400-1774452600@masshireholyoke.org
SUMMARY:Virtual Career Center Seminar
DESCRIPTION:This is an Interactive Live Webinar conducted via a Zoom Meeting. To schedule you must go to www.Mass.gov/jobquest and register as a new user (or log-in if already registered) and then click on the Career Center Seminar Schedule button and select the Holyoke Career Center to choose day and time. You will receive an email at least one day prior to the CCS with instructions on how to join the Zoom meeting. If you are unable to use MassHire JobQuest\, please call 413-532-4900 to schedule.
URL:https://masshireholyoke.org/event/virtual-career-center-seminar-12/
CATEGORIES:Career Center Seminars,Webinar
END:VEVENT
END:VCALENDAR