BEGIN:VCALENDAR
VERSION:2.0
PRODID:-//MassHire Holyoke Career Center - ECPv6.15.17.1//NONSGML v1.0//EN
CALSCALE:GREGORIAN
METHOD:PUBLISH
X-ORIGINAL-URL:https://masshireholyoke.org
X-WR-CALDESC:Events for MassHire Holyoke Career Center
REFRESH-INTERVAL;VALUE=DURATION:PT1H
X-Robots-Tag:noindex
X-PUBLISHED-TTL:PT1H
BEGIN:VTIMEZONE
TZID:America/New_York
BEGIN:DAYLIGHT
TZOFFSETFROM:-0500
TZOFFSETTO:-0400
TZNAME:EDT
DTSTART:20250309T070000
END:DAYLIGHT
BEGIN:STANDARD
TZOFFSETFROM:-0400
TZOFFSETTO:-0500
TZNAME:EST
DTSTART:20251102T060000
END:STANDARD
BEGIN:DAYLIGHT
TZOFFSETFROM:-0500
TZOFFSETTO:-0400
TZNAME:EDT
DTSTART:20260308T070000
END:DAYLIGHT
BEGIN:STANDARD
TZOFFSETFROM:-0400
TZOFFSETTO:-0500
TZNAME:EST
DTSTART:20261101T060000
END:STANDARD
BEGIN:DAYLIGHT
TZOFFSETFROM:-0500
TZOFFSETTO:-0400
TZNAME:EDT
DTSTART:20270314T070000
END:DAYLIGHT
BEGIN:STANDARD
TZOFFSETFROM:-0400
TZOFFSETTO:-0500
TZNAME:EST
DTSTART:20271107T060000
END:STANDARD
END:VTIMEZONE
BEGIN:VEVENT
DTSTART;TZID=America/New_York:20260212T103000
DTEND;TZID=America/New_York:20260212T123000
DTSTAMP:20260423T092218
CREATED:20260203T193115Z
LAST-MODIFIED:20260203T193115Z
UID:473784-1770892200-1770899400@masshireholyoke.org
SUMMARY:Orientación en Español
DESCRIPTION:Esta Orientación en Español es una session en per Orientación en Español sona en nuestra oficina en 208 la calle Race en Holyoke. Para registrarse\, por favor llame al 413-532-4900
URL:https://masshireholyoke.org/event/orientacion-en-espanol-6/
END:VEVENT
BEGIN:VEVENT
DTSTART;TZID=America/New_York:20260212T130000
DTEND;TZID=America/New_York:20260212T150000
DTSTAMP:20260423T092218
CREATED:20260203T160635Z
LAST-MODIFIED:20260203T160635Z
UID:473736-1770901200-1770908400@masshireholyoke.org
SUMMARY:ONET: Your Secret Job Search Weapon
DESCRIPTION:ONET: Your Secret Job Search Weapon (Remote using Zoom): Discover the vast wealth of labor market information found on O*NET Online and explore ways to leverage this information to expand your career exploration and gain valuable insights into industry trends and job outlooks. Cure your writer’s block in preparing resumes and cover letters by accessing professional language to describe your previous work experience. Prepare for job interviews by comparing your previously held occupations to your target occupations. Don’t miss this opportunity to harness the full potential of what this secret weapon can do to ensure a successful job search process!
URL:https://masshireholyoke.org/event/onet-your-secret-job-search-weapon/
CATEGORIES:Webinar,Workshops
END:VEVENT
BEGIN:VEVENT
DTSTART;TZID=America/New_York:20260212T130000
DTEND;TZID=America/New_York:20260212T150000
DTSTAMP:20260423T092218
CREATED:20260203T195909Z
LAST-MODIFIED:20260203T195909Z
UID:473809-1770901200-1770908400@masshireholyoke.org
SUMMARY:Walk-In Career Counseling
DESCRIPTION:Appointments are not needed for this “First Come First serve” counseling service.   The sessions are roughly 15 minutes and the counselor can help you with a variety of things.  The walk-in hours are as listed and you can come in anytime during this time. \n✅ Have your resume and cover letter reviewed✅ Explore career options and training opportunities✅ Prepare for interviews  ✅ Connect to local job openings\, job fairs\, and workshops✅ And More!
URL:https://masshireholyoke.org/event/walk-in-career-counseling-27/
CATEGORIES:Walk In Career Counseling
END:VEVENT
BEGIN:VEVENT
DTSTART;TZID=America/New_York:20260212T130000
DTEND;TZID=America/New_York:20260212T150000
DTSTAMP:20260423T092218
CREATED:20260203T201325Z
LAST-MODIFIED:20260203T201325Z
UID:473840-1770901200-1770908400@masshireholyoke.org
SUMMARY:Consejería de Carrera sin Cita
DESCRIPTION:No necesitas cita para este servicio de consejería “primero en llegar\, primero en ser atendido”. Las sesiones duran aproximadamente 15 minutos y el consejero puede ayudarte con muchas cosas. Los horarios para venir sin cita están indicados\, y puedes llegar en cualquier momento durante esas horas. \n✅ Revisar tu resumé (hoja de vida) y carta de presentación✅ Explorar opciones de carrera y oportunidades de entrenamiento✅ Prepararte para entrevistas✅ Conectarte con empleos disponibles\, ferias de trabajo y talleres locales✅ ¡Y mucho más!
URL:https://masshireholyoke.org/event/consejeria-de-carrera-sin-cita-14/
CATEGORIES:Servicios en Espanol
END:VEVENT
END:VCALENDAR