BEGIN:VCALENDAR
VERSION:2.0
PRODID:-//MassHire Holyoke Career Center - ECPv6.15.17.1//NONSGML v1.0//EN
CALSCALE:GREGORIAN
METHOD:PUBLISH
X-ORIGINAL-URL:https://masshireholyoke.org
X-WR-CALDESC:Events for MassHire Holyoke Career Center
REFRESH-INTERVAL;VALUE=DURATION:PT1H
X-Robots-Tag:noindex
X-PUBLISHED-TTL:PT1H
BEGIN:VTIMEZONE
TZID:America/New_York
BEGIN:DAYLIGHT
TZOFFSETFROM:-0500
TZOFFSETTO:-0400
TZNAME:EDT
DTSTART:20250309T070000
END:DAYLIGHT
BEGIN:STANDARD
TZOFFSETFROM:-0400
TZOFFSETTO:-0500
TZNAME:EST
DTSTART:20251102T060000
END:STANDARD
BEGIN:DAYLIGHT
TZOFFSETFROM:-0500
TZOFFSETTO:-0400
TZNAME:EDT
DTSTART:20260308T070000
END:DAYLIGHT
BEGIN:STANDARD
TZOFFSETFROM:-0400
TZOFFSETTO:-0500
TZNAME:EST
DTSTART:20261101T060000
END:STANDARD
BEGIN:DAYLIGHT
TZOFFSETFROM:-0500
TZOFFSETTO:-0400
TZNAME:EDT
DTSTART:20270314T070000
END:DAYLIGHT
BEGIN:STANDARD
TZOFFSETFROM:-0400
TZOFFSETTO:-0500
TZNAME:EST
DTSTART:20271107T060000
END:STANDARD
END:VTIMEZONE
BEGIN:VEVENT
DTSTART;TZID=America/New_York:20260205T103000
DTEND;TZID=America/New_York:20260205T123000
DTSTAMP:20260425T083816
CREATED:20260203T193024Z
LAST-MODIFIED:20260203T193024Z
UID:473782-1770287400-1770294600@masshireholyoke.org
SUMMARY:Orientación en Español
DESCRIPTION:Esta Orientación en Español es una session en per Orientación en Español sona en nuestra oficina en 208 la calle Race en Holyoke. Para registrarse\, por favor llame al 413-532-4900
URL:https://masshireholyoke.org/event/orientacion-en-espanol-5/
CATEGORIES:Orientación en Español
END:VEVENT
BEGIN:VEVENT
DTSTART;TZID=America/New_York:20260205T130000
DTEND;TZID=America/New_York:20260205T150000
DTSTAMP:20260425T083816
CREATED:20251230T171458Z
LAST-MODIFIED:20251230T171458Z
UID:473592-1770296400-1770303600@masshireholyoke.org
SUMMARY:Interviewing Skills Webinar
DESCRIPTION:Networking to Your Next Job Webinar (Remote using Zoom): Networking is an important and often unused job search tool to access the “hidden job market.” This webinar provides suggestions for creating a successful networking plan\, as well as providing a description of the “Information Interview” process.
URL:https://masshireholyoke.org/event/interviewing-skills-webinar-6/
CATEGORIES:Webinar
END:VEVENT
BEGIN:VEVENT
DTSTART;TZID=America/New_York:20260205T130000
DTEND;TZID=America/New_York:20260205T150000
DTSTAMP:20260425T083816
CREATED:20260203T195830Z
LAST-MODIFIED:20260203T195830Z
UID:473807-1770296400-1770303600@masshireholyoke.org
SUMMARY:Walk-In Career Counseling
DESCRIPTION:Appointments are not needed for this “First Come First serve” counseling service.   The sessions are roughly 15 minutes and the counselor can help you with a variety of things.  The walk-in hours are as listed and you can come in anytime during this time. \n✅ Have your resume and cover letter reviewed✅ Explore career options and training opportunities✅ Prepare for interviews  ✅ Connect to local job openings\, job fairs\, and workshops✅ And More!
URL:https://masshireholyoke.org/event/walk-in-career-counseling-26/
CATEGORIES:Walk In Career Counseling
END:VEVENT
BEGIN:VEVENT
DTSTART;TZID=America/New_York:20260205T130000
DTEND;TZID=America/New_York:20260205T150000
DTSTAMP:20260425T083816
CREATED:20260203T201238Z
LAST-MODIFIED:20260203T201238Z
UID:473838-1770296400-1770303600@masshireholyoke.org
SUMMARY:Consejería de Carrera sin Cita
DESCRIPTION:No necesitas cita para este servicio de consejería “primero en llegar\, primero en ser atendido”. Las sesiones duran aproximadamente 15 minutos y el consejero puede ayudarte con muchas cosas. Los horarios para venir sin cita están indicados\, y puedes llegar en cualquier momento durante esas horas. \n✅ Revisar tu resumé (hoja de vida) y carta de presentación✅ Explorar opciones de carrera y oportunidades de entrenamiento✅ Prepararte para entrevistas✅ Conectarte con empleos disponibles\, ferias de trabajo y talleres locales✅ ¡Y mucho más! \nConsejería de Carrera sin Cita
URL:https://masshireholyoke.org/event/consejeria-de-carrera-sin-cita-13/
CATEGORIES:Servicios en Espanol
END:VEVENT
END:VCALENDAR