BEGIN:VCALENDAR
VERSION:2.0
PRODID:-//MassHire Holyoke Career Center - ECPv6.15.17.1//NONSGML v1.0//EN
CALSCALE:GREGORIAN
METHOD:PUBLISH
X-ORIGINAL-URL:https://masshireholyoke.org
X-WR-CALDESC:Events for MassHire Holyoke Career Center
REFRESH-INTERVAL;VALUE=DURATION:PT1H
X-Robots-Tag:noindex
X-PUBLISHED-TTL:PT1H
BEGIN:VTIMEZONE
TZID:America/New_York
BEGIN:DAYLIGHT
TZOFFSETFROM:-0500
TZOFFSETTO:-0400
TZNAME:EDT
DTSTART:20250309T070000
END:DAYLIGHT
BEGIN:STANDARD
TZOFFSETFROM:-0400
TZOFFSETTO:-0500
TZNAME:EST
DTSTART:20251102T060000
END:STANDARD
BEGIN:DAYLIGHT
TZOFFSETFROM:-0500
TZOFFSETTO:-0400
TZNAME:EDT
DTSTART:20260308T070000
END:DAYLIGHT
BEGIN:STANDARD
TZOFFSETFROM:-0400
TZOFFSETTO:-0500
TZNAME:EST
DTSTART:20261101T060000
END:STANDARD
BEGIN:DAYLIGHT
TZOFFSETFROM:-0500
TZOFFSETTO:-0400
TZNAME:EDT
DTSTART:20270314T070000
END:DAYLIGHT
BEGIN:STANDARD
TZOFFSETFROM:-0400
TZOFFSETTO:-0500
TZNAME:EST
DTSTART:20271107T060000
END:STANDARD
END:VTIMEZONE
BEGIN:VEVENT
DTSTART;TZID=America/New_York:20260203T100000
DTEND;TZID=America/New_York:20260203T113000
DTSTAMP:20260423T093322
CREATED:20251230T160936Z
LAST-MODIFIED:20251230T161025Z
UID:473579-1770112800-1770118200@masshireholyoke.org
SUMMARY:Using GMail and Google Docs
DESCRIPTION:Hands-On Computer Workshops to Level Up Your Digital Skills\nBoost your computer confidence with these interactive\, in-person workshops! Learn essential digital skills for work\, school\, and everyday life. Each session includes a free 6-month Northstar Digital Literacy membership\, so you can practice and earn industry-recognized certificates. \nChoose the Workshops That Fit Your Needs – No Prerequisites!\n\nComputer & Internet Basics – Navigate Windows 11 Operating System\, browse safely\, complete online forms\, and troubleshoot tech issues.\nGmail & Google Docs – Set up a professional Gmail\, improve email skills\, and create polished\nMicrosoft Office Essentials – Learn and practice three of the most common workplace software programs: Microsoft Word\, Excel\, and PowerPoint\, to enhance your transferable skill set for\nJob Search & Digital Identity – Optimize job searches\, craft strong resumes\, and manage your online presence.\n\nGain real-world skills in a supportive\, hands-on setting. Sign up today!
URL:https://masshireholyoke.org/event/473579/
LOCATION:MassHire Holyoke\, 208 Race Street\, Holyoke\, MA\, 01040\, United States
CATEGORIES:Computer Class in Person,Workshops
END:VEVENT
BEGIN:VEVENT
DTSTART;TZID=America/New_York:20260203T100000
DTEND;TZID=America/New_York:20260203T113000
DTSTAMP:20260423T093322
CREATED:20260203T160013Z
LAST-MODIFIED:20260203T160013Z
UID:473728-1770112800-1770118200@masshireholyoke.org
SUMMARY:Computer and Internet Basics
DESCRIPTION:Hands-On Computer Workshops to Level Up Your Digital Skills. Boost your computer confidence with these interactive\, in-person workshops! Learn essential digital skills for work\, school\, and everyday life. Each session includes a free 6-month Northstar Digital Literacy membership\, so you can practice and earn industry-recognized certificates. \nChoose the Workshops That Fit Your Needs – No Prerequisites! \n\nComputer & Internet Basics – Navigate Windows 11 Operating System\, browse safely\, complete online forms\, and troubleshoot tech issues.\nGmail & Google Docs – Set up a professional Gmail\, improve email skills\, and create polished documents.\nMicrosoft Office Essentials – Learn and practice three of the most common workplace software programs: Microsoft Word\, Excel\, and PowerPoint\, to enhance your transferable skill set for employment.\nJob Search & Digital Identity – Optimize job searches\, craft strong resumes\, and manage your online presence.\nGain real-world skills in a supportive\, hands-on setting. Sign up today!
URL:https://masshireholyoke.org/event/computer-and-internet-basics-4/
CATEGORIES:Computer Class in Person,Workshops
END:VEVENT
END:VCALENDAR